BEGIN:VCALENDAR
VERSION:2.0
PRODID:-//OpenAPI Initiative - ECPv6.15.20//NONSGML v1.0//EN
CALSCALE:GREGORIAN
METHOD:PUBLISH
X-ORIGINAL-URL:https://www.openapis.org
X-WR-CALDESC:Events for OpenAPI Initiative
REFRESH-INTERVAL;VALUE=DURATION:PT1H
X-Robots-Tag:noindex
X-PUBLISHED-TTL:PT1H
BEGIN:VTIMEZONE
TZID:America/Los_Angeles
BEGIN:DAYLIGHT
TZOFFSETFROM:-0800
TZOFFSETTO:-0700
TZNAME:PDT
DTSTART:20250309T100000
END:DAYLIGHT
BEGIN:STANDARD
TZOFFSETFROM:-0700
TZOFFSETTO:-0800
TZNAME:PST
DTSTART:20251102T090000
END:STANDARD
BEGIN:DAYLIGHT
TZOFFSETFROM:-0800
TZOFFSETTO:-0700
TZNAME:PDT
DTSTART:20260308T100000
END:DAYLIGHT
BEGIN:STANDARD
TZOFFSETFROM:-0700
TZOFFSETTO:-0800
TZNAME:PST
DTSTART:20261101T090000
END:STANDARD
BEGIN:DAYLIGHT
TZOFFSETFROM:-0800
TZOFFSETTO:-0700
TZNAME:PDT
DTSTART:20270314T100000
END:DAYLIGHT
BEGIN:STANDARD
TZOFFSETFROM:-0700
TZOFFSETTO:-0800
TZNAME:PST
DTSTART:20271107T090000
END:STANDARD
END:VTIMEZONE
BEGIN:VEVENT
DTSTART;VALUE=DATE:20260218
DTEND;VALUE=DATE:20260221
DTSTAMP:20260422T011427
CREATED:20260206T192518Z
LAST-MODIFIED:20260206T193630Z
UID:10000035-1771372800-1771631999@www.openapis.org
SUMMARY:DeveloperWeek San Jose 2026
DESCRIPTION:Event: DeveloperWeek San Jose 2026\nDate: February 18 – 20\, 2026 \nVenue:  San Jose Convention Center \nCFP: Use the DeveloperWeek form \nOverview\nEach year\, 8\,000+ developers\, engineers\, software architects\, dev teams\, managers\, and executives from 70+ countries gather for DeveloperWeek (Feb 18-20\, 2026\, San Jose Convention Center & Feb 18-20\, 2025\, Live Online) to discover the latest in developer technologies\, languages\, platforms\, and tools. \nDeveloperWeek 2026 is the largest developer conference & event series including the DeveloperWeek 2026 Conference & Expo\, 1\,000+ attendee hackathon\, 800+ attendee tech hiring expo\, and a series of workshops\, technical talks\, and keynotes. \nThis year\, DeveloperWeek will feature an OpenAPI Summit.  \nRegistration and Participation\nThe OAI Summit is an integral part of DeveloperWeek 2026 Conference & Expo. Attendees have to register through the registration page of DeveloperWeek 2026 Conference & Expo \nOAI Summit Program\, February 20th\, 2026\nEvent Schedule\nMorning Session (9.30-12.00)\n\n\n9.30-9.55: "Summit Welcome and OpenAPI in the Age of AI"\, Erik Wilde (OpenAPI Initiative) \n\n\n10.00-10.25: "You may have OpenAPI\, but is it AI-Ready?"\, Frank Kilcommins (Jentic) \n\n\n10.30-10.55: "What's new in OpenAPI 3.2?"\, Henry Andrews (OpenAPI Initiative) \n\n\n11.00-11.25: "10x Boost in API Development Velocity Using Practical AI Tooling"\, Sumit Amar (WEX) \n\n\n11.30-11.55: "The New Developer Stack: Integrating AI into the Core of Enterprise Systems"\, Manideep Galala (Microsoft) & Aditya Tangirala (Venmo) \n\n\nAfternoon Session (1.00pm – 3.30pm)\n\n\n1.00-1.25: "Bridging SDKs\, OpenAPI\, and AI: A Unified Schema for LLM-Safe API Chunking"\, Aditya Rohit (SwytchCode) \n\n\n1.30-1.55: "AI-Driven API Design with OpenAPI"\, Emmanuel Paraskakis (Level 250) \n\n\n2.00-2.25: "APIs Weren't Built for AI: Now What?"\, Nuwan Dias (WSO2) \n\n\n2.30-2.55: "The API-to-AI Pipeline: Building the Composable Backbone of AI-Ready Platforms"\, Kuldeepak Angrish (Tyk) & Budhaditya Bhattacharya  (Tyk) \n\n\n3.00-3.25: "From API Chaos to Clarity: The Role of OpenAPI in Standardized Tooling"\, Raúl Nogales (101OBEX) \n\n\nMore Session Schedule Information :  DeveloperWeek Agenda
URL:https://www.openapis.org/events/developerweek-san-jose-2026
LOCATION:San Jose Convention CenterSan Jose\, 150 W San Carlos St\, San Jose\, 95113\, United States
ATTACH;FMTTYPE=image/jpeg:https://www.openapis.org/wp-content/uploads/sites/31/2026/02/devweek-image-no-dateS.jpg
END:VEVENT
END:VCALENDAR